Workbook
Name 계정과목: [1]계정과목!$B$4:$B$50
Name 상환방식2: [2]Sheet1!$H$1:$H$5

Sheet 총원가분석
F1: 공나양 | G1: 010-2000-4981
A6: [매출액] | F6: 노란색은 직접 입력
A7: 매출 | F7: 매출액 | G7: 비고
C8: 딸기 | D8: 매출 | F8: =매출분석!K37 -> 149820000 | G8: 총생산량(kg)
A9: 매출 합계 | F9: =SUM(F8:F8) -> 149820000 | G9: =매출분석!I1 -> 7760
A11: [매출원가]
A12: 생산원가 | F12: 생산원가 | G12: 비고
C13: 고정비 | D13: 경비 | F13: =고정비_경비!J15 -> 7520000
C14: 고정비 | D14: 노무비(월급) | F14: =고정비_노무!H17 -> 37600000 | G14: =SUM(F13:F14) -> 45120000
C15: 변동비 | D15: 노무비(작업비) | F15: ='변동비_작업비용(A)'!K4 -> 2000000
C16: 변동비 | D16: 생산자재 | F16: ='변동비_생산자재(A)'!J40 -> 29660000
C17: 변동비 | D17: 판관비 | F17: =변동비_판관비!J13 -> 0 | G17: =SUM(F15:F17) -> 31660000
A18: 생산원가 합계 | F18: =SUM(F13:F17) -> 76780000 | G18: =F18/F9 -> 0.51248164
A20: [매출총이익]
A21: 매출 총이익 | F21: 금액 | G21: 비고
A22: 매출 합계 | F22: =F9 -> 149820000 | G22: 딸기판돈
A23: 생산원가 합계 | F23: =F18 -> 76780000 | G23: 고정비+변동비
A24: 매출 총이익 | F24: =F22-F23 -> 73040000 | G24: 농장주 연봉
A26: [영업이익]
A27: 영업이익 | F27: 금액 | G27: 비고
A28: 매출총이익 | F28: =F24 -> 73040000
C29: =C8 -> 딸기 | D29: 판매관리비 | G29: 직거래시
A30: 영업이익 | F30: =F28-F29 -> 73040000
A32: [영업외수익]
A33: 영업외 수익 | F33: 금액 | G33: 비고
A34: 직불금 | F34: 1800000
A35: 기타 잡수익 | F35: 2000000
A36: 영업외 수익 합계 | F36: =SUM(F34:F35) -> 3800000
A38: [영업외비용]
A39: 영업외 비용 | F39: 금액 | G39: 비고
A40: 가정비 | F40: 40000000
A41: 대출이자금액 | F41: =대출계산기!E4 -> 56621827
F42: 0
A43: 영업외 비용 합계 | F43: =SUM(F40:F42) -> 96621827
A45: [당기순이익]
A46: 당기순이익 | F46: 금액 | G46: 비고
A47: 매출총이익 + 영업외수익 - 영업외비용 | F47: =F30+F36-F43 -> -19781827
A48: 당기순이익 | F48: =SUM(F47:F47) -> -19781827
A52: [현금자산 유입]
A53: 현금자산 유입 | F53: 금액 | G53: 비고
A54: 대출 유입
A55: 자산 매각
A56: 현금유입 합계 | F56: =SUM(F54:F55) -> 0
A58: [현금자산 유출]
A59: 현금자산 유출 | F59: 금액 | G59: 비고
A60: 대출 상환
A61: 자산 구입
A62: 현금유출 합계 | F62: =SUM(F60:F61) -> 0
A64: [당기 현금흐름결산]
A65: 당기 현금흐름 결산 | F65: 금액 | G65: 비고
A66: 당기순이익 + 자산유입 - 자산유출 | F66: =F48+F56-F62 -> -19781827
A67: 현금흐름 결산 | F67: =SUM(F66:F66) -> -19781827
E68: 감가상각비 | F68: ='유형자산(딸기)'!J49 -> 27653286

Sheet 매출분석
H1: 총생산량 | I1: =H2*2 -> 7760
B2: [매출분석] | D2: 시설 200평*6동 (단동) | H2: =SUM(H4:H36) -> 3880 | K2: =K37 -> 149820000
A3: 번호 | B3: 구분 | C3: 판매구분 | D3: 상품단위 | E3: 규격 | F3: 판매단가 | G3: 동 | H3: 수량 | I3: 2kg 1박스 | J3: 수수료 | K3: 매출액
A4: 농산물 | B4: 딸기 | C4: 공판장 11월 | D4: 특 | E4: kg | F4: 28000 | G4: 6 | H4: 90 | I4: =H4/2 -> 45 | K4: =F4*G4*I4 -> 7560000
D5: 상 | E5: kg | K5: =F5*G5*I5 -> 0
D6: 중 | E6: kg | K6: =F6*G6*I6 -> 0
D7: 잼 | E7: kg | K7: =F7*G7*I7 -> 0
C8: 공판장 12월 | D8: 특 | E8: kg | F8: 22000 | G8: 6 | H8: 550 | I8: =H8/2 -> 275 | K8: =F8*G8*I8 -> 36300000
D9: 상 | E9: kg | F9: 15000 | G9: 6 | H9: 80 | I9: =H9/2 -> 40 | K9: =F9*G9*I9 -> 3600000
D10: 중 | E10: kg | I10: =H10/2 -> 0 | K10: =F10*G10*I10 -> 0
D11: 잼 | E11: kg | I11: =H11/2 -> 0 | K11: =F11*G11*I11 -> 0
C12: 공판장 1월 | D12: 특 | E12: kg | F12: 21000 | G12: 6 | H12: 350 | I12: =H12/2 -> 175 | K12: =F12*G12*I12 -> 22050000
D13: 상 | E13: kg | F13: 15500 | G13: 6 | H13: 35 | I13: =H13/2 -> 17.5 | K13: =F13*G13*I13 -> 1627500
D14: 중 | E14: kg | F14: 11500 | G14: 6 | H14: 35 | I14: =H14/2 -> 17.5 | K14: =F14*G14*I14 -> 1207500
D15: 잼 | E15: kg | I15: =H15/2 -> 0 | K15: =F15*G15*I15 -> 0
C16: 공판장 2월 | D16: 특 | E16: kg | F16: 20000 | G16: 6 | H16: 330 | I16: =H16/2 -> 165 | K16: =F16*G16*I16 -> 19800000
D17: 상 | E17: kg | F17: 18000 | G17: 6 | H17: 130 | I17: =H17/2 -> 65 | K17: =F17*G17*I17 -> 7020000
D18: 중 | E18: kg | F18: 12000 | G18: 6 | H18: 130 | I18: =H18/2 -> 65 | K18: =F18*G18*I18 -> 4680000
D19: 잼 | E19: kg | K19: =F19*G19*I19 -> 0
C20: 공판장 3월 | D20: 특 | E20: kg | F20: 13500 | G20: 6 | H20: 320 | I20: =H20/2 -> 160 | K20: =F20*G20*I20 -> 12960000
D21: 상 | E21: kg | F21: 9000 | G21: 6 | H21: 120 | I21: =H21/2 -> 60 | K21: =F21*G21*I21 -> 3240000
D22: 중 | E22: kg | F22: 6000 | G22: 6 | H22: 120 | I22: =H22/2 -> 60 | K22: =F22*G22*I22 -> 2160000
D23: 잼 | E23: kg | K23: =F23*G23*I23 -> 0
C24: 공판장 4월 | D24: 특 | E24: kg | F24: 13000 | G24: 6 | H24: 250 | I24: =H24/2 -> 125 | K24: =F24*G24*I24 -> 9750000
D25: 상 | E25: kg | F25: 9000 | G25: 6 | H25: 150 | I25: =H25/2 -> 75 | K25: =F25*G25*I25 -> 4050000
D26: 중 | E26: kg | F26: 6000 | G26: 6 | H26: 150 | I26: =H26/2 -> 75 | K26: =F26*G26*I26 -> 2700000
D27: 잼 | E27: kg | K27: =F27*G27*I27 -> 0
C28: 공판장 5월 | D28: 특 | E28: kg | F28: 8000 | G28: 6 | H28: 280 | I28: =H28/2 -> 140 | K28: =F28*G28*I28 -> 6720000
D29: 상 | E29: kg | F29: 5000 | G29: 6 | H29: 175 | I29: =H29/2 -> 87.5 | K29: =F29*G29*I29 -> 2625000
D30: 중 | E30: kg | F30: 3000 | G30: 6 | H30: 135 | I30: =H30/2 -> 67.5 | K30: =F30*G30*I30 -> 1215000
D31: 잼 | E31: kg | F31: 500 | G31: 6 | H31: 50 | I31: =H31/2 -> 25 | K31: =F31*G31*I31 -> 75000
C32: 공판장 6월 | D32: 특 | E32: kg | K32: =F32*G32*I32 -> 0
D33: 상 | E33: kg | K33: =F33*G33*I33 -> 0
D34: 중 | E34: kg | K34: =F34*G34*I34 -> 0
D35: 잼 | E35: kg | F35: 400 | G35: 6 | H35: 400 | I35: =H35/2 -> 200 | K35: =F35*G35*I35 -> 480000
K36: =F36*G36*I36 -> 0
A37: A 매출 총액 | H37: =SUM(H4:H36) -> 3880 | K37: =SUM(K4:K36) -> 149820000
A38: 농산물 | B38: 딸기 | C38: 직거래 | E38: kg | K38: 10000000
A42: B 매출 총액 | K42: =SUM(K38:K41) -> 10000000
A43: 농산물
A47: C 매출 총액 | K47: =SUM(K43:K46) -> 0
A52: D 매출 총액 | K52: =SUM(K48:K51) -> 0
C53: 총 매출 | K53: =K37+K42+K47+K52 -> 159820000

Sheet 고정비_경비
D1: =총원가분석!C8 -> 딸기 | E1: 고정 경비
A3: 번호 | B3: 계정 | C3: 구분 | D3: 내용 | E3: 상세내용 | F3: 규격 | G3: 단가 | H3: 수량 | I3: 동 | J3: 비용
B4: 경비 | D4: 통신요금 | F4: 월 | G4: 50000 | H4: 12 | I4: 6 | J4: =G4*H4*I4 -> 3600000
D5: 휴대폰요금 | F5: 년 | G5: 100000 | H5: 12 | I5: 1 | J5: =G5*H5*I5 -> 1200000
D6: 재해보험 | F6: 년 | G6: 120000 | H6: 1 | I6: 6 | J6: =G6*H6*I6 -> 720000
D7: 화재보험 | F7: 년 | H7: 1 | I7: 6 | J7: =G7*H7*I7 -> 0
D8: 차량세금 및 보험 | F8: 년 | G8: 1000000 | H8: 2 | I8: 1 | J8: =G8*H8*I8 -> 2000000
D9: CCTV/경비
C10: 세무비용 | D10: 기장료 | F10: 월
D11: 신고대행 | F11: 년
D15: 고정 경비 합계 | J15: =SUM(J4:J14) -> 7520000

Sheet 고정비_노무
B1: [노무비+경비 목록]
A2: 단계 | B2: 구분 | C2: 작업목록 | D2: 규격 | E2: 단가 | F2: 수량 | G2: 횟수 | H2: 합계비용
A3: 노무비 | B3: 생육관리 | C3: 외국인(불법) | D3: 월 | E3: 1500000 | F3: 2 | G3: 12 | H3: =E3*F3*G3 -> 36000000
A4: (월급여) | C4: 외국인(합법) | D4: 월 | E4: =209*9000 -> 1881000 | F4: 0 | G4: 12 | H4: =E4*F4*G4 -> 0
D5: 월 | E5: 1500000 | F5: 0 | G5: 0 | H5: =E5*F5*G5 -> 0
B6: 일용직 | C6: 일당 | D6: 일 | E6: 150000 | F6: 0 | G6: 0 | H6: =E6*F6*G6 -> 0
C7: 일용 식대 | D7: 회 | E7: 10000 | F7: 0 | G7: 0 | H7: =E7*F7*G7 -> 0
B8: 상여금 | D8: 년 | E8: 100000 | F8: 2 | G8: 1 | H8: =E8*F8*G8 -> 200000
B9: 복리후생비 | C9: 고정 | D9: 월 | E9: 100000 | F9: 1 | G9: 12 | H9: =E9*F9*G9 -> 1200000
C10: 추가(회식 등) | D10: 회 | E10: 200000 | F10: 1 | G10: 1 | H10: =E10*F10*G10 -> 200000
B11: 4대보험 | C11: =C4 -> 외국인(합법) | D11: 월 | E11: 100000 | F11: 0 | G11: 12 | H11: =E11*F11*G11 -> 0
B12: 퇴직금 | C12: =C4 -> 외국인(합법) | D12: 년 | E12: =E4 -> 1881000 | F12: 0 | G12: 1 | H12: =E12*F12*G12 -> 0
C13: 급여B | D13: 월 | F13: 0 | G13: 0 | H13: =E13*F13*G13 -> 0
C14: 급여C | D14: 월 | F14: 0 | G14: 0 | H14: =E14*F14*G14 -> 0
H16: =E16*F16*G16 -> 0
B17: 노무비 1년 총액 | H17: =SUM(H3:H16) -> 37600000

Sheet 변동비_작업비용(A)
D1: =총원가분석!C8 -> 딸기 | E1: 작업리스트
B2: 시설 200평*6동 (단동)
A3: 시기 | B3: 과정 | C3: 작업명 | D3: 작업구분 | E3: 작업 일수 | F3: 준비물 | G3: 규격 | H3: 단가 | I3: 수량 | J3: 횟수 | K3: 비용
C4: 인건비 총액 | E4: =E101 -> 0 | K4: =K101 -> 2000000
A5: 9월 | B5: 준비기 | C5: 정식 | D5: 정식작업 | G5: 일 | K5: =H5*I5*J5 -> 0
D6: 모종 | F6: 36,000주 | G6: 포 | K6: =H6*I6*J6 -> 0
D7: 작업인력 | F7: 인건비(일당) | G7: 남 | K7: =H7*I7*J7 -> 0
G8: 여 | H8: 80000 | I8: 5 | J8: 1 | K8: =H8*I8*J8 -> 400000
G9: 자가 | K9: =H9*I9*J9 -> 0
D10: 기타경비 | F10: 식사 및 간식 | G10: 인 | H10: 10000 | I10: 10 | J10: 1 | K10: =H10*I10*J10 -> 100000
C11: 바닥쓸기 | D11: 작업장비 | G11: 개 | K11: =H11*I11*J11 -> 0
D12: 작업자재 | G12: 포 | K12: =H12*I12*J12 -> 0
D13: 작업인력 | F13: 인건비(일당) | G13: 남 | K13: =H13*I13*J13 -> 0
G14: 여 | K14: =H14*I14*J14 -> 0
G15: 자가 | K15: =H15*I15*J15 -> 0
D16: 기타경비 | F16: 식사 및 간식 | G16: 인 | K16: =H16*I16*J16 -> 0
C17: 보식 | D17: 작업장비 | G17: 개 | K17: =H17*I17*J17 -> 0
D18: 작업자재 | G18: 포 | K18: =H18*I18*J18 -> 0
D19: 작업인력 | F19: 인건비(일당) | G19: 남 | K19: =H19*I19*J19 -> 0
G20: 여 | K20: =H20*I20*J20 -> 0
G21: 자가 | K21: =H21*I21*J21 -> 0
D22: 기타경비 | F22: 식사 및 간식 | G22: 인 | K22: =H22*I22*J22 -> 0
A23: 10월 | C23: 꽃작업 | D23: 벌 | G23: 개 | K23: =H23*I23*J23 -> 0
C24: 잎작업 | G24: 포 | K24: =H24*I24*J24 -> 0
D25: 작업인력 | F25: 인건비(일당) | G25: 남 | K25: =H25*I25*J25 -> 0
G26: 여 | K26: =H26*I26*J26 -> 0
G27: 자가 | K27: =H27*I27*J27 -> 0
D28: 기타경비 | F28: 식사 및 간식 | G28: 인 | K28: =H28*I28*J28 -> 0
C29: 보식 | D29: 모종 | G29: 주 | H29: 500 | I29: 3000 | J29: 1 | K29: =H29*I29*J29 -> 1500000
C30: 비닐 작업 | D30: 작업자재 | G30: 포 | K30: =H30*I30*J30 -> 0
D31: 작업인력 | F31: 인건비(일당) | G31: 남 | K31: =H31*I31*J31 -> 0
G32: 여 | K32: =H32*I32*J32 -> 0
G33: 자가 | K33: =H33*I33*J33 -> 0
D34: 기타경비 | F34: 식사 및 간식 | G34: 인 | K34: =H34*I34*J34 -> 0
A35: 11월 | C35: 꽃작업 | D35: 작업장비 | G35: 개 | K35: =H35*I35*J35 -> 0
C36: 잎작업 | D36: 작업자재 | G36: 포 | K36: =H36*I36*J36 -> 0
C37: 수확작업 | D37: 작업인력 | F37: 인건비(일당) | G37: 남 | K37: =H37*I37*J37 -> 0
G38: 여 | K38: =H38*I38*J38 -> 0
G39: 자가 | K39: =H39*I39*J39 -> 0
D40: 기타경비 | F40: 식사 및 간식 | G40: 인 | K40: =H40*I40*J40 -> 0
A41: 12월 | C41: 꽃작업 | D41: 작업장비 | G41: 개 | K41: =H41*I41*J41 -> 0
C42: 잎작업 | D42: 작업자재 | G42: 포 | K42: =H42*I42*J42 -> 0
C43: 수확작업 | D43: 작업인력 | F43: 인건비(일당) | G43: 남 | K43: =H43*I43*J43 -> 0
G44: 여 | K44: =H44*I44*J44 -> 0
G45: 자가 | K45: =H45*I45*J45 -> 0
D46: 기타경비 | F46: 식사 및 간식 | G46: 인 | K46: =H46*I46*J46 -> 0
A47: 1월 | C47: 꽃작업 | D47: 작업장비 | G47: 개 | K47: =H47*I47*J47 -> 0
C48: 잎작업 | D48: 작업자재 | G48: 포 | K48: =H48*I48*J48 -> 0
C49: 수확작업 | D49: 작업인력 | F49: 인건비(일당) | G49: 남 | K49: =H49*I49*J49 -> 0
G50: 여 | K50: =H50*I50*J50 -> 0
G51: 자가 | K51: =H51*I51*J51 -> 0
D52: 기타경비 | F52: 식사 및 간식 | G52: 인 | K52: =H52*I52*J52 -> 0
A53: 2월 | C53: 꽃작업 | D53: 작업장비 | G53: 개 | K53: =H53*I53*J53 -> 0
C54: 잎작업 | D54: 작업자재 | G54: 포 | K54: =H54*I54*J54 -> 0
C55: 수확작업 | D55: 작업인력 | F55: 인건비(일당) | G55: 남 | K55: =H55*I55*J55 -> 0
G56: 여 | K56: =H56*I56*J56 -> 0
G57: 자가 | K57: =H57*I57*J57 -> 0
D58: 기타경비 | F58: 식사 및 간식 | G58: 인 | K58: =H58*I58*J58 -> 0
A59: 3월 | C59: 꽃작업 | D59: 작업장비 | G59: 개 | K59: =H59*I59*J59 -> 0
C60: 잎작업 | D60: 작업자재 | G60: 포 | K60: =H60*I60*J60 -> 0
C61: 수확작업 | D61: 작업인력 | F61: 인건비(일당) | G61: 남 | K61: =H61*I61*J61 -> 0
G62: 여 | K62: =H62*I62*J62 -> 0
G63: 자가 | K63: =H63*I63*J63 -> 0
D64: 기타경비 | F64: 식사 및 간식 | G64: 인 | K64: =H64*I64*J64 -> 0
C65: 작업명기입 | D65: 작업장비 | G65: 개 | K65: =H65*I65*J65 -> 0
D66: 작업자재 | G66: 포 | K66: =H66*I66*J66 -> 0
D67: 작업인력 | F67: 인건비(일당) | G67: 남 | K67: =H67*I67*J67 -> 0
G68: 여 | K68: =H68*I68*J68 -> 0
G69: 자가 | K69: =H69*I69*J69 -> 0
D70: 기타경비 | F70: 식사 및 간식 | G70: 인 | K70: =H70*I70*J70 -> 0
C71: 작업명기입 | D71: 작업장비 | G71: 개 | K71: =H71*I71*J71 -> 0
D72: 작업자재 | G72: 포 | K72: =H72*I72*J72 -> 0
D73: 작업인력 | F73: 인건비(일당) | G73: 남 | K73: =H73*I73*J73 -> 0
G74: 여 | K74: =H74*I74*J74 -> 0
G75: 자가 | K75: =H75*I75*J75 -> 0
D76: 기타경비 | F76: 식사 및 간식 | G76: 인 | K76: =H76*I76*J76 -> 0
C77: 작업명기입 | D77: 작업장비 | G77: 개 | K77: =H77*I77*J77 -> 0
D78: 작업자재 | G78: 포 | K78: =H78*I78*J78 -> 0
D79: 작업인력 | F79: 인건비(일당) | G79: 남 | K79: =H79*I79*J79 -> 0
G80: 여 | K80: =H80*I80*J80 -> 0
G81: 자가 | K81: =H81*I81*J81 -> 0
D82: 기타경비 | F82: 식사 및 간식 | G82: 인 | K82: =H82*I82*J82 -> 0
C83: 작업명기입 | D83: 작업장비 | G83: 개 | K83: =H83*I83*J83 -> 0
D84: 작업자재 | G84: 포 | K84: =H84*I84*J84 -> 0
D85: 작업인력 | F85: 인건비(일당) | G85: 남 | K85: =H85*I85*J85 -> 0
G86: 여 | K86: =H86*I86*J86 -> 0
G87: 자가 | K87: =H87*I87*J87 -> 0
D88: 기타경비 | F88: 식사 및 간식 | G88: 인 | K88: =H88*I88*J88 -> 0
C89: 작업명기입 | D89: 작업장비 | G89: 개 | K89: =H89*I89*J89 -> 0
D90: 작업자재 | G90: 포 | K90: =H90*I90*J90 -> 0
D91: 작업인력 | F91: 인건비(일당) | G91: 남 | K91: =H91*I91*J91 -> 0
G92: 여 | K92: =H92*I92*J92 -> 0
G93: 자가 | K93: =H93*I93*J93 -> 0
D94: 기타경비 | F94: 식사 및 간식 | G94: 인 | K94: =H94*I94*J94 -> 0
C95: 작업명기입 | D95: 작업장비 | G95: 개 | K95: =H95*I95*J95 -> 0
D96: 작업자재 | G96: 포 | K96: =H96*I96*J96 -> 0
D97: 작업인력 | F97: 인건비(일당) | G97: 남 | K97: =H97*I97*J97 -> 0
G98: 여 | K98: =H98*I98*J98 -> 0
G99: 자가 | K99: =H99*I99*J99 -> 0
D100: 기타경비 | F100: 식사 및 간식 | G100: 인 | K100: =H100*I100*J100 -> 0
...

Sheet 변동비_생산자재(A)
D1: =총원가분석!C8 -> 딸기 | E1: 변동_생산자재비
A3: 번호 | B3: 계정 | C3: 구분 | D3: 내용 | E3: 상세내용 | F3: 규격 | G3: 단가 | H3: 수량 | I3: 동 | J3: 비용
B4: 재료비 | C4: 모종 | E4: 모종 | F4: 개 | G4: 500 | H4: 6000 | I4: 6 | J4: =G4*H4*I4 -> 18000000
C5: 상토보충 | F5: 포 | G5: 5500 | H5: 80 | I5: =$I$4 -> 6 | J5: =G5*H5*I5 -> 2640000
C6: 비료/퇴비 | D6: 양액비료 | F6: 식 | G6: 500000 | H6: 1 | I6: =$I$4 -> 6 | J6: =G6*H6*I6 -> 3000000
I7: =$I$4 -> 6 | J7: =G7*H7*I7 -> 0
C8: 2중비닐 | E8: 인건비 포함 | F8: 식 | G8: 550000 | H8: 1 | I8: =$I$4 -> 6 | J8: =G8*H8*I8 -> 3300000
C10: 수정작업 | D10: 벌 | F10: 통 | G10: 150000 | H10: 1 | I10: =$I$4 -> 6 | J10: =G10*H10*I10 -> 900000
I11: =$I$4 -> 6 | J11: =G11*H11*I11 -> 0
I12: =$I$4 -> 6 | J12: =G12*H12*I12 -> 0
I13: =$I$4 -> 6
E14: 재료비 소계 | J14: =SUM(J5:J13) -> 9840000
B15: 경비 | C15: 농장운용비 | D15: 전기료(춘추) | F15: 월 | G15: 230000 | H15: 1
D16: 전기료(하) | F16: 월 | G16: 350000 | H16: 1
D17: 전기료(동) | F17: 월 | G17: 240000 | H17: 1
D18: 수도요금 | F18: 월 | G18: 0 | H18: 1
D19: 난방유류대 | F19: 월 | G19: 800000 | H19: 1
D20: 시설유지보수비 | F20: 년 | G20: 1500000 | H20: 1
D21: 소모품비 | F21: 월 | G21: 500000 | H21: 1
D22: 장비유류대(면)
C23: 농기계운용비 | F23: 년 | G23: 1300 | H23: 300
D24: CCTV/경비 | F24: 월 | H24: 1
D25: 수리비 | F25: 월 | G25: 0 | H25: 1
D26: 유지보수비 | F26: 월 | H26: 1
D27: 차량세금 | F27: 회
D28: 전기료 | F28: 월 | G28: 50000 | H28: 12 | I28: =$I$4 -> 6 | J28: =G28*H28*I28 -> 3600000
D29: 수도요금 | F29: 월 | I29: =$I$4 -> 6 | J29: =G29*H29*I29 -> 0
D30: 차량 유류대 | F30: 년 | G30: 200000 | H30: 24 | I30: 1 | J30: =G30*H30*I30 -> 4800000
D31: 난방비 | F31: 년 | G31: 330000 | H31: 4 | I31: =$I$4 -> 6 | J31: =G31*H31*I31 -> 7920000
D32: 시설유지보수비 | F32: 식 | G32: 150000 | H32: 1 | I32: =$I$4 -> 6 | J32: =G32*H32*I32 -> 900000
C33: 농기계운용비 | D33: 수리비
D34: 소모품비 | F34: 식 | G34: 100000 | H34: 1 | I34: =$I$4 -> 6 | J34: =G34*H34*I34 -> 600000
D35: 차량세금 및 보험 | F35: 년 | G35: 1000000 | H35: 2 | I35: 1 | J35: =G35*H35*I35 -> 2000000
E39: 경비 소계 | J39: =SUM(J15:J38) -> 19820000
E40: 변동 생산비 합계 | J40: =J14+J39 -> 29660000

Sheet 변동비_판관비
D1: =총원가분석!C8 -> 딸기 | E1: 변동_판관비
A3: 번호 | B3: 계정 | C3: 구분 | D3: 내용 | E3: 상세내용 | F3: 규격 | G3: 단가 | H3: 수량 | I3: 동 | J3: 비용
B4: 판관비 | C4: 포장 | D4: 포장박스 | E4: 포장박스/5kg | F4: 개 | I4: 1 | J4: =G4*H4*I4 -> 0
E5: 포장박스/10kg | F5: 개 | I5: 1 | J5: =G5*H5*I5 -> 0
E6: 화지(골판지) | F6: 박스 | I6: 0 | J6: =G6*H6*I6 -> 0
E7: 포장-봉지 | F7: 개 | I7: 0 | J7: =G7*H7*I7 -> 0
E8: 난좌 | F8: 개 | I8: 0 | J8: =G8*H8*I8 -> 0
E9: 소모품 | F9: 회 | I9: 1 | J9: =G9*H9*I9 -> 0
C10: 운송비 | D10: 운송비 | E10: 운송비 | J10: =G10*H10*I10 -> 0
E11: 택배비 | J11: =G11*H11*I11 -> 0
E12: 수수료
E13: 판매비와관리비 소계 | J13: =SUM(J4:J9) -> 0

Sheet 유형자산(딸기)
A1: [딸기 유형자산 리스트] | D1: 2020.12.3 | F1: [충남농업마이스터]
B2: 시설 200평*6동 (단동)
B3: 구분 | C3: 세부구분 | D3: 내용 | E3: 규격 | F3: 단가 | G3: 수량 | H3: 금액 | I3: 내용 연수 | J3: 감가상각
B4: 토지 | C4: 농지 | D4: 시설농지 | E4: 평 | F4: 100000 | G4: 2000 | H4: =F4*G4 -> 200000000
D5: 땅구입 부대비용 | E5: 식 | F5: 14000000 | G5: 1 | H5: =F5*G5 -> 14000000
C6: 임대
B7: 토지소계 | H7: =SUM(H4:H6) -> 214000000
B8: 토목공사 | C8: 바닥정리 | D8: 포크레인용역 | E8: 일 | F8: 600000 | G8: 2 | H8: =F8*G8 -> 1200000
D9: 식대 | E9: 2식 | F9: 15000 | G9: 6 | H9: =F9*G9 -> 90000
C10: 전기 외부 공사 | D10: 3상 15kw 공사비 | F10: 20000 | G10: 15 | H10: =F10*G10 -> 300000
D11: 한전불입금 | F11: 98000 | G11: 15 | H11: =F11*G11 -> 1470000
C12: 관정 | D12: 지하수 관정 | E12: 식 | F12: 7000000 | G12: 1 | H12: =F12*G12 -> 7000000
B13: 하우스 공사 | C13: 하우스 공사 | D13: 수경재배시설 | E13: 동 | F13: 20000000 | G13: 6 | H13: =F13*G13 -> 120000000 | I13: 15 | J13: =H13/I13 -> 8000000
D14: 1중 비닐 | F14: 2000000 | G14: 6 | H14: =F14*G14 -> 12000000 | I14: 7 | J14: =H14/I14 -> 1714285.7
D15: 3중 비닐 | G15: 6 | H15: =F15*G15 -> 0
D16: 보온덮개 | F16: 7000000 | G16: 6 | H16: =F16*G16 -> 42000000 | I16: 7 | J16: =H16/I16 -> 6000000
D17: 파이프 | F17: 0 | G17: 0 | H17: =F17*G17 -> 0
D18: 조리개외 부속자재 | F18: 0 | G18: 0 | H18: =F18*G18 -> 0
D19: 바닥공사 | F19: 0 | G19: 0 | H19: =F19*G19 -> 0
C20: 전기내부설비 | E20: 식 | F20: 2000000 | G20: 1 | H20: =F20*G20 -> 2000000 | I20: =$I$13 -> 15 | J20: =H20/I20 -> 133333.33
C21: 양액설비 | E21: 식 | F21: 15000000 | G21: 1 | H21: =F21*G21 -> 15000000 | I21: =$I$13 -> 15 | J21: =H21/I21 -> 1000000
C22: 배관설비 | E22: 동 | F22: 300000 | G22: 6 | H22: =F22*G22 -> 1800000 | I22: =$I$13 -> 15 | J22: =H22/I22 -> 120000
C23: 고설배드 | D23: 상토 포함 | E23: 동 | F23: 10000000 | G23: 6 | H23: =F23*G23 -> 60000000 | I23: =$I$13 -> 15 | J23: =H23/I23 -> 4000000
C24: 보일러 | E24: 식 | F24: 2500000 | G24: 1 | H24: =F24*G24 -> 2500000 | I24: =$I$13 -> 15 | J24: =H24/I24 -> 166666.67
C25: 온풍기 | E25: 식 | F25: 0 | G25: 0 | H25: =F25*G25 -> 0 | I25: 1 | J25: =H25/I25 -> 0
C26: 유동 팬 | E26: 10개 | F26: 70000 | G26: =10*6 -> 60 | H26: =F26*G26 -> 4200000 | I26: 10 | J26: =H26/I26 -> 420000
C27: 배기 팬(환풍기) | E27: 2개 | F27: 70000 | G27: =2*6 -> 12 | H27: =F27*G27 -> 840000 | I27: 10 | J27: =H27/I27 -> 84000
B29: 시설소계 | H29: =SUM(H8:H28) -> 270400000 | J29: =SUM(J8:J28) -> 21638286 | K29: =H29/6 -> 45066667
B30: 기계장치 | C30: 고압분무기 | D30: 줄포함 | E30: 개 | F30: 800000 | G30: 1 | H30: =F30*G30 -> 800000 | I30: 10 | J30: =H30/I30 -> 80000
G31: 0 | H31: =F31*G31 -> 0 | I31: 10 | J31: =H31/I31 -> 0
G32: 0 | H32: =F32*G32 -> 0 | I32: 5 | J32: =H32/I32 -> 0
B33: 기계장치 소계 | H33: =SUM(H30:H32) -> 800000 | J33: =SUM(J30:J32) -> 80000
B34: 운반기기 | C34: 트럭 | D34: 1t | F34: 22000000 | G34: 1 | H34: =F34*G34 -> 22000000 | I34: 15 | J34: =H34/I34 -> 1466666.7
C35: 운반기(소형) | D35: 구르마 | E35: 대 | F35: 150000 | G35: 5 | H35: =F35*G35 -> 750000 | I35: 10 | J35: =H35/I35 -> 75000
C36: 자가용 | D36: 그랜져 | F36: 36000000 | G36: 1 | H36: =F36*G36 -> 36000000 | I36: 15 | J36: =H36/I36 -> 2400000
C37: 오토바이 | F37: 50000 | G37: 1 | H37: =F37*G37 -> 50000 | I37: 5 | J37: =H37/I37 -> 10000
B38: 운반기기 소계 | H38: =SUM(H34:H37) -> 58800000 | J38: =SUM(J34:J37) -> 3951666.7
B39: 건물 | C39: 외국인 숙소 | D39: 콘테이너 숙소 | E39: 8평 | F39: 1000000 | G39: 8 | H39: =F39*G39 -> 8000000
C40: 관리동 겸 창고 | E40: 100평 | F40: 150000 | G40: 100 | H40: =F40*G40 -> 15000000
C41: 저온저장고 | E41: 3평 | F41: 6500000 | G41: 1 | H41: =F41*G41 -> 6500000
C42: 숙소 설비 | E42: 식 | F42: 5000000 | G42: 1 | H42: =F42*G42 -> 5000000
C43: 숙소 집기 | E43: 식 | F43: 10000000 | G43: 1 | H43: =F43*G43 -> 10000000 | I43: 10 | J43: =H43/I43 -> 1000000
B44: 비품 | C44: 전자저울 | E44: 개 | F44: 500000 | G44: 5 | H44: =F44*G44 -> 2500000 | I44: 3 | J44: =H44/I44 -> 833333.33
C45: 수확박스 | E45: 개 | F45: 2500 | G45: 300 | H45: =F45*G45 -> 750000 | I45: 5 | J45: =H45/I45 -> 150000
E46: 개 | H46: =F46*G46 -> 0
B47: 건물비품 소계 | H47: =SUM(H40:H45) -> 39750000 | J47: =SUM(J40:J45) -> 1983333.3
H48: 유형자산 합계 | J48: 1년 감가상각비 합계
H49: =H7+H29+H33+H38+H47 -> 583750000 | J49: =J29+J33+J38+J47 -> 27653286

Sheet 가정비
A1: 가정 지출 목록 산출서 | F1: 월 가정비 계 | H1: =N19 -> 0 | J1: 1년 가정비 계 | L1: =H1*12 -> 0
A2: 예상지출 | L2: 비예상 | M2: 비예상
A3: 비용지출 | K3: 자산 | L3: 지출 | M3: 지출
A4: 비용필수 | I4: 비용선택 | K4: 지출
A5: 생존필수 | B5: 금액 | C5: 기타필수 | D5: 금액 | E5: 자녀양육 | F5: 금액 | G5: 정기고정 | H5: 금액 | J5: 금액 | M5: 금액
A6: 주식비 | C6: 휴대폰요금 | E6: 공교육비 | G6: 생명보험료 | I6: 부모 용돈 | L6: 경조사
A7: 부식비 | C7: TV유선 | E7: 사교육비 | G7: 실비보험료 | I7: 모임회비 | L7: 의료비
A8: 의료비 | C8: 인터넷 | E8: 의류비 | G8: 운전자보험 | I8: 교육비 | L8: 수리비
A9: 전기료 | C9: 제사비 | E9: 자녀통신비 | G9: 화재보험 | I9: 외식비 | L9: 합의금
A10: 수도요금 | C10: 가정소모품 | E10: 용돈 | G10: 적금 | I10: 이미용비
A11: 가스요금 | C11: 의류비 | E11: 기숙사 | G11: 원금상환 | I11: 보약비
A12: 난방요금 | C12: 렌탈 | E12: 교통비 | G12: 이자 | I12: 문화생활
A13: 국민연금 | C13: 이발비 | E13: 의료보험 | G13: 할부금 | I13: 유흥비
A14: 건강보험 | C14: 미용비 | E14: 교육보험 | G14: 자동차보험 | I14: 차량유지비
A15: 월세금 | C15: 차량유지비 | E15: 생명보험 | I15: 의류비
C16: 차량유지비 | E16: 주택청약 | I16: 여행비
F17: 0 | I17: 찬조금
B18: 0 | D18: 0 | F18: 0 | H18: 0 | M18: 0
B19: =SUM(B6:B18) -> 0 | D19: =SUM(D6:D18) -> 0 | F19: =SUM(F6:F18) -> 0 | H19: =SUM(H6:H18) -> 0 | J19: =SUM(J6:J18) -> 0 | M19: =SUM(M6:M18) -> 0 | N19: =SUM(B19:M19) -> 0

Sheet 대출계산기
A1: 부채 총괄 내역
C4: 2026년 상환액 총계 | E4: =SUM(E6:E19) -> 56621827 | G4: 현재잔액총계 | H4: =SUM(H6:H19) -> 3.1566564e+08 | J4: 기준일(작성일) | K4: 46048
B5: 상환일 | C5: 대출명 _내용 | D5: 월 상환액 | E5: 년 상환액 | F5: 금융기관 | G5: 원금 | H5: 현재 잔액 | I5: 금리 (%) | J5: 만기일 | K5: 대출형태
A6: 1 | B6: 10일 | C6: 주택담보대출 | D6: 1200000 | E6: =D6*12 -> 14400000 | F6: 국민은행 | G6: 200000000 | H6: 185000000 | I6: 0.035 | J6: 53327 | K6: 원금균등분할상환
A7: 2 | B7: 25일 | C7: 신용대출 | D7: 500000 | E7: =D7*12 -> 6000000 | F7: 케이뱅크 | G7: 30000000 | H7: 25000000 | I7: 0.052 | J7: 46527 | K7: 원금균등분할상환
A8: 3 | B8: 46285 | C8: 기계장치-SS기 | E8: 4959358.6 | F8: 농협 | G8: 23000000 | H8: 17199532 | I8: 0.03 | J8: 46528 | K8: 원리금균등분할상환
A9: 4 | B9: 46172 | C9: 기계장치-부채 리스트 | E9: 3000000 | F9: 농협 | G9: 8900000 | I9: 0.03 | J9: 46529 | K9: 원리금균등분할상환
A10: 5 | B10: 46172 | C10: 출하선급금 | E10: 5000000 | F10: 농협 | G10: 30000000 | H10: 2500000 | I10: 0 | J10: 46530 | K10: 원금균등분할상환
A11: 6 | B11: 46172 | C11: 출하선급금 | E11: 4634915.7 | F11: 농협 | G11: 10000000 | H11: 833333.33 | I11: 0 | J11: 46531 | K11: 원금균등분할상환
A12: 7 | B12: 46172 | C12: 농어촌구조개선자금 | E12: 2700000 | F12: 농협 | G12: 40000000 | H12: 15381354 | I12: 0.03 | J12: 46532 | K12: 원리금균등분할상환
A13: 8 | B13: 31일 | C13: 마이너스 통장/2년 | D13: 151701.39 | E13: =D13*12 -> 1820416.7 | F13: 농협 | G13: 30000000 | H13: 30000000 | I13: 0.09 | J13: 46533 | K13: 만기일시상환
A14: 9 | B14: 25일 | C14: 저리대체대출 | D14: 232013.89 | E14: =D14*12 -> 2784166.7 | F14: 농협 | G14: 8500000 | H14: 2266666.7 | I14: 0.05 | J14: 46534 | K14: 원금균등분할상환
A15: 10 | B15: 10일 | C15: 저리대체대출 | D15: 538541 | E15: =D15*12 -> 6462492 | F15: 농협 | G15: 13000000 | H15: 3466666.7 | I15: 0.05 | J15: 46535 | K15: 원금균등분할상환
A16: 11 | B16: 10일 | C16: 저리대체대출 | D16: 38718.49 | E16: =D16*12 -> 464621.88 | F16: 농협 | G16: 53000000 | H16: 12366667 | I16: 0.05 | J16: 46536 | K16: 원금균등분할상환
A17: 12 | B17: 10일 | C17: 상호금융특별장기대출 | D17: 105748.33 | E17: =D17*12 -> 1268980 | F17: 농협 | G17: 7850000 | H17: 4775416.7 | I17: 0.015 | J17: 46537 | K17: 원금균등분할상환
A18: 13 | B18: 10일 | C18: 상호금융특별장기대출 | D18: 173333.33 | E18: =D18*12 -> 2080000 | F18: 농협 | G18: 21440000 | H18: 13042667 | I18: 0.015 | J18: 46538 | K18: 원금균등분할상환
A19: 14 | B19: 46172 | C19: 상호금융지역발전대출 | D19: 1046875 | E19: 1046875 | F19: 농협 | G19: 20000000 | H19: 3833333.3 | I19: 0.02 | J19: 46539 | K19: 원금균등분할상환
